BEGIN:VCALENDAR
VERSION:2.0
PRODID:-//Regionalgruppe Modulbau  - ECPv6.2.8.1//NONSGML v1.0//EN
CALSCALE:GREGORIAN
METHOD:PUBLISH
X-WR-CALNAME:Regionalgruppe Modulbau 
X-ORIGINAL-URL:http://www.regionalgruppe-modulbaubb.de
X-WR-CALDESC:Veranstaltungen für Regionalgruppe Modulbau 
REFRESH-INTERVAL;VALUE=DURATION:PT1H
X-Robots-Tag:noindex
X-PUBLISHED-TTL:PT1H
BEGIN:VTIMEZONE
TZID:Europe/Berlin
BEGIN:DAYLIGHT
TZOFFSETFROM:+0100
TZOFFSETTO:+0200
TZNAME:CEST
DTSTART:20250330T010000
END:DAYLIGHT
BEGIN:STANDARD
TZOFFSETFROM:+0200
TZOFFSETTO:+0100
TZNAME:CET
DTSTART:20251026T010000
END:STANDARD
END:VTIMEZONE
BEGIN:VEVENT
DTSTART;TZID=Europe/Berlin:20250208T100000
DTEND;TZID=Europe/Berlin:20250208T180000
DTSTAMP:20260424T232234
CREATED:20241230T183014Z
LAST-MODIFIED:20241230T183014Z
UID:2230-1739008800-1739037600@www.regionalgruppe-modulbaubb.de
SUMMARY:12.Mittenwalder Modellbahntage
DESCRIPTION:
URL:http://www.regionalgruppe-modulbaubb.de/event/12-mittenwalder-modellbahntage-2/
LOCATION:12. Mittenwalder Modellbahntage\, Schulstraße 1\, Mittenwalde\, Brandenburg\, 15749
END:VEVENT
END:VCALENDAR